BEGIN:VCALENDAR
VERSION:2.0
PRODID:-//Tukios.com/
BEGIN:VEVENT
UID:b07e8b1d-381d-407e-97a6-f63a86495142@www.harpethhills.com
DTSTAMP:20260421T210758Z
DTSTART:20260424T193000Z
DTEND:20260424T203000Z
SUMMARY:Burial
DESCRIPTION:
URL:https://www.harpethhills.com/obituaries/william-dixon
LOCATION: 9090 TN-100  Nashville TN 37221
GEO:36.0275766;-87.0204911
END:VEVENT
END:VCALENDAR