BEGIN:VCALENDAR
VERSION:2.0
PRODID:-//Tukios.com/
BEGIN:VEVENT
UID:687b8a70-22a1-45c5-8c82-eb58343259c1@www.harpethhills.com
DTSTAMP:20260421T210857Z
DTSTART:20260423T210000Z
DTEND:20260424T010000Z
SUMMARY:Visitation
DESCRIPTION:
URL:https://www.harpethhills.com/obituaries/william-dixon
LOCATION: 9090 TN-100  Nashville TN 37221
GEO:36.0275766;-87.0204911
END:VEVENT
END:VCALENDAR