BEGIN:VCALENDAR
VERSION:2.0
PRODID:-//Tukios.com/
BEGIN:VEVENT
UID:bb7edc63-876f-48a1-8562-3c3b2cd8f788@www.harpethhills.com
DTSTAMP:20260420T194245Z
DTSTART:20260425T190000Z
DTEND:20260425T200000Z
SUMMARY:Funeral Service
DESCRIPTION:
URL:https://www.harpethhills.com/obituaries/raymond-trainor
LOCATION:Harpeth Hills Funeral Home 9090 Tennessee 100  Nashville TN 
	37221
GEO:36.0275523;-87.0204523
END:VEVENT
END:VCALENDAR