BEGIN:VCALENDAR
VERSION:2.0
PRODID:-//Tukios.com/
BEGIN:VEVENT
UID:cec82887-0b54-4782-9d5d-c1556de297ab@www.harpethhills.com
DTSTAMP:20260420T194149Z
DTSTART:20260425T170000Z
DTEND:20260425T190000Z
SUMMARY:Visitation
DESCRIPTION:
URL:https://www.harpethhills.com/obituaries/raymond-trainor
LOCATION:Harpeth Hills Funeral Home 9090 Tennessee 100  Nashville TN 
	37221
GEO:36.0275523;-87.0204523
END:VEVENT
END:VCALENDAR