BEGIN:VCALENDAR
VERSION:2.0
PRODID:-//Tukios.com/
BEGIN:VEVENT
UID:a3a4754a-0072-4403-b799-98e6157ee6b1@www.harpethhills.com
DTSTAMP:20260423T222428Z
DTSTART:20260516T180000Z
DTEND:20260516T220000Z
SUMMARY:Celebration of Life
DESCRIPTION:
URL:https://www.harpethhills.com/obituaries/mert-sloan
LOCATION: 9090 TN-100  Nashville TN 37221
GEO:36.0275766;-87.0204911
END:VEVENT
END:VCALENDAR