BEGIN:VCALENDAR
VERSION:2.0
PRODID:-//Tukios.com/
BEGIN:VEVENT
UID:b2f50ede-b6c6-44c8-89e6-971ff333005f@www.harpethhills.com
DTSTAMP:20260424T015745Z
DTSTART:20260430T183000Z
DTEND:20260430T193000Z
SUMMARY:Funeral Service
DESCRIPTION:
URL:https://www.harpethhills.com/obituaries/debra-kaye-mccord
LOCATION: 9090 TN-100  Nashville TN 37221
GEO:36.0275766;-87.0204911
END:VEVENT
END:VCALENDAR