BEGIN:VCALENDAR
VERSION:2.0
PRODID:-//Tukios.com/
BEGIN:VEVENT
UID:607f14a4-99e1-4848-80ff-d42c3b3353f8@www.harpethhills.com
DTSTAMP:20260424T015709Z
DTSTART:20260430T143000Z
DTEND:20260430T183000Z
SUMMARY:Visitation
DESCRIPTION:
URL:https://www.harpethhills.com/obituaries/debra-kaye-mccord
LOCATION: 9090 TN-100  Nashville TN 37221
GEO:36.0275766;-87.0204911
END:VEVENT
END:VCALENDAR