BEGIN:VCALENDAR
VERSION:2.0
PRODID:-//Tukios.com/
BEGIN:VEVENT
UID:1c50304e-fdc7-4c67-81d8-a6ec187389cf@www.harpethhills.com
DTSTAMP:20260423T234645Z
DTSTART:20260425T193000Z
DTEND:20260425T203000Z
SUMMARY:Burial
DESCRIPTION:
URL:https://www.harpethhills.com/obituaries/cynthia-shandor
LOCATION: 9090 TN-100  Nashville TN 37221
GEO:36.0275766;-87.0204911
END:VEVENT
END:VCALENDAR