BEGIN:VCALENDAR
VERSION:2.0
PRODID:-//Tukios.com/
BEGIN:VEVENT
UID:28bfbd5e-43a5-4de7-a403-043bde6f164a@www.harpethhills.com
DTSTAMP:20260423T234802Z
DTSTART:20260425T180000Z
DTEND:20260425T190000Z
SUMMARY:Mass
DESCRIPTION:
URL:https://www.harpethhills.com/obituaries/cynthia-shandor
LOCATION: 535 Sneed Rd W  Franklin TN 37069
GEO:36.0284001;-86.9584192
END:VEVENT
END:VCALENDAR