BEGIN:VCALENDAR
VERSION:2.0
PRODID:-//Tukios.com/
BEGIN:VEVENT
UID:a16517e4-d103-40ba-9d24-0775f2be9784@www.harpethhills.com
DTSTAMP:20260423T234819Z
DTSTART:20260425T150000Z
DTEND:20260425T170000Z
SUMMARY:Visitation
DESCRIPTION:
URL:https://www.harpethhills.com/obituaries/cynthia-shandor
LOCATION: 9090 TN-100  Nashville TN 37221
GEO:36.0275766;-87.0204911
END:VEVENT
END:VCALENDAR