BEGIN:VCALENDAR
VERSION:2.0
PRODID:-//Tukios.com/
BEGIN:VEVENT
UID:cf1dfcaf-1d09-413b-9c84-50f92bfe3a55@www.harpethhills.com
DTSTAMP:20260421T210731Z
DTSTART:20260424T180000Z
DTEND:20260424T181500Z
SUMMARY:Interment
DESCRIPTION:
URL:https://www.harpethhills.com/obituaries/brian-billingsley
LOCATION: 7931 McCrory Ln  Nashville TN 37221
GEO:36.087006;-87.0281873
END:VEVENT
END:VCALENDAR