BEGIN:VCALENDAR
VERSION:2.0
PRODID:-//Tukios.com/
BEGIN:VEVENT
UID:d90efef7-5a62-494b-8e4b-8459b9168373@www.harpethhills.com
DTSTAMP:20260421T210824Z
DTSTART:20260424T160000Z
DTEND:20260424T170000Z
SUMMARY:Funeral Mass
DESCRIPTION:
URL:https://www.harpethhills.com/obituaries/brian-billingsley
LOCATION: 6401 Harding Pike  Nashville TN 37205
GEO:36.0904632;-86.8863874
END:VEVENT
END:VCALENDAR