BEGIN:VCALENDAR
VERSION:2.0
PRODID:-//Tukios.com/
BEGIN:VEVENT
UID:447b4f6f-c98e-436b-882c-02eb63afcc01@www.harpethhills.com
DTSTAMP:20260421T210450Z
DTSTART:20260423T230000Z
DTEND:20260424T010000Z
SUMMARY:Visitation
DESCRIPTION:
URL:https://www.harpethhills.com/obituaries/brian-billingsley
LOCATION: 9090 TN-100  Nashville TN 37221
GEO:36.0275766;-87.0204911
END:VEVENT
END:VCALENDAR