BEGIN:VCALENDAR
VERSION:2.0
PRODID:-//Tukios.com/
BEGIN:VEVENT
UID:648de787-d53d-46db-bc9b-d0c43b348da6@www.harpethhills.com
DTSTAMP:20260421T210758Z
DTSTART:20260423T224500Z
DTEND:20260423T230000Z
SUMMARY:Rosary
DESCRIPTION:
URL:https://www.harpethhills.com/obituaries/brian-billingsley
LOCATION: 9090 TN-100  Nashville TN 37221
GEO:36.0275766;-87.0204911
END:VEVENT
END:VCALENDAR